BEGIN:VCALENDAR
VERSION:2.0
PRODID:-//wp-events-plugin.com//7.2.3.1//EN
BEGIN:VEVENT
UID:50@roundupriverranch.org
DTSTART;TZID=America/Denver:20260815T170000
DTEND;TZID=America/Denver:20260815T210000
DTSTAMP:20260325T165612Z
URL:https://roundupriverranch.org/es/events/a-grateful-harvest/
SUMMARY:A Grateful Harvest
DESCRIPTION:Date: 8/15/2026\n\nTime: 5:00 pm\n\nLocation: Camp | 8333 Co
 lorado River Road\, Gypsum\, CO\n\n\n\n2026 is a milestone year at Roundup
  River Ranch! We’ll raise a toast to two decades of Roundup River Ranch
  at A Grateful Harvest. Join us at camp for our biggest fundraiser event 
 of the year\, A Grateful Harvest\, on Saturday\, August 15\, 2026 at 5 p.
 m.! Gather in Trent’s Cookhouse for a celebratory evening featuring cock
 tails\, hors d-oeuvres\, and an exquisite four-course dinner prepared by s
 ome of the Vail Valley’s most renowned local chefs. Guests will enjoy an
  exclusive wine-tasting during cocktail hour\, be inspired by heartfelt ca
 mper stories and performances\, celebrate the champions who have made camp
  possible\, take part in a live auction\, culminating with the impactful 
 “Camper Call” paddle raise.\n\n&nbsp\;\n\nTickets are required for thi
 s event. Visit AGratefulHarvest.com for the most up-to-date ticket and spo
 nsorship details!\n\n\n\n&nbsp\;
ATTACH;FMTTYPE=image/jpeg:https://roundupriverranch.org/wp-content/uploads
 /2026/03/1-2025_AGH-MH-25.jpg
CATEGORIES:Fundraising Events
LOCATION:Lazy J Ranch\, 1 Sporting Clay Road\, Wolcott\, CO\, 81655\, 
GEO:39.695887;-106.67712
X-APPLE-STRUCTURED-LOCATION;VALUE=URI;X-ADDRESS=1 Sporting Clay Road\, Wolc
 ott\, CO\, 81655\, ;X-APPLE-RADIUS=100;X-TITLE=Lazy J Ranch:geo:39.695887,
 -106.67712
END:VEVENT
BEGIN:VTIMEZONE
TZID:America/Denver
X-LIC-LOCATION:America/Denver
BEGIN:DAYLIGHT
DTSTART:20260308T030000
TZOFFSETFROM:-0700
TZOFFSETTO:-0600
TZNAME:MDT
END:DAYLIGHT
END:VTIMEZONE
END:VCALENDAR