BEGIN:VCALENDAR
VERSION:2.0
PRODID:-//wp-events-plugin.com//7.2.3.1//EN
BEGIN:VEVENT
UID:44@roundupriverranch.org
DTSTART;TZID=America/Denver:20260514T180000
DTEND;TZID=America/Denver:20260514T210000
DTSTAMP:20260325T165655Z
URL:https://roundupriverranch.org/es/events/a-taste-of-camp/
SUMMARY:A Taste Of Camp
DESCRIPTION:Date: 5/14/2026\n\nTime: 6:00 pm\n\nLocation: Mile High Stat
 ion\, Denver\n\n&nbsp\;\n\n2026 is a milestone year at Roundup River Ranch
 ! We’ll raise a toast to two decades of Roundup River Ranch at A Taste 
 of Camp.\n\n\n\nJoin us on Thursday\, May 14\, 2026 at 6 p.m. for A Taste 
 of Camp back at Mile High Station in Denver\, where we bring all the magi
 c of camp to the city! Savor morsels of stories\, tastings of courage and 
 awe\, and full helpings of gratitude. Experience our mission through the v
 oices of campers\, celebrate the champions who make camp possible\, and ma
 ke an impact with our silent auction\, live auction\, and “Camper Call
 ” paddle raise.\n\n&nbsp\;\n\nTickets are required for this event. Visit
  ATasteOfCamp.com for the most up-to-date ticket and sponsorship details!\
 n\n\n\n&nbsp\;
ATTACH;FMTTYPE=image/jpeg:https://roundupriverranch.org/wp-content/uploads
 /2026/03/ATOC_Photobooth-253.jpg
CATEGORIES:Fundraising Events
LOCATION:Mile High Station\, 2027 W Colfax Ave\, Denver\, CO\, 81637\, Esta
 dos Unidos
GEO:39.739932;-105.016544
X-APPLE-STRUCTURED-LOCATION;VALUE=URI;X-ADDRESS=2027 W Colfax Ave\, Denver\
 , CO\, 81637\, Estados Unidos;X-APPLE-RADIUS=100;X-TITLE=Mile High Station
 :geo:39.739932,-105.016544
END:VEVENT
BEGIN:VTIMEZONE
TZID:America/Denver
X-LIC-LOCATION:America/Denver
BEGIN:DAYLIGHT
DTSTART:20260308T030000
TZOFFSETFROM:-0700
TZOFFSETTO:-0600
TZNAME:MDT
END:DAYLIGHT
END:VTIMEZONE
END:VCALENDAR