BEGIN:VCALENDAR
VERSION:2.0
PRODID:-//wp-events-plugin.com//7.2.3.1//EN
BEGIN:VEVENT
UID:67@roundupriverranch.org
DTSTART;TZID=America/Denver;VALUE=DATE:20260403
DTEND;TZID=America/Denver;VALUE=DATE:20260404
DTSTAMP:20260325T184007Z
URL:https://roundupriverranch.org/es/events/alumni-reunion-registration-de
 adline/
SUMMARY:Alumni Reunion: Registration Deadline
DESCRIPTION:Alumni! Join us online for a camp catch up with other alumni fr
 om all over the country. What’s cooking? YOU ARE! Join our special guest
 \, Chef Mary\, to learn and cook an easy recipe. We will all enjoy our mea
 l together (online)\, just like old times at camp!\n\n&nbsp\;\n\nYou must 
 register on Campsite before April 3rd\, 2026.\n\n&nbsp\;\n\nLearn about up
 coming alumni opportunities here.\n\n&nbsp\;
ATTACH;FMTTYPE=image/jpeg:https://roundupriverranch.org/wp-content/uploads
 /2026/01/soleful-reconnect-e1769453757590.png
CATEGORIES:Miscellaneous
END:VEVENT
BEGIN:VTIMEZONE
TZID:America/Denver
X-LIC-LOCATION:America/Denver
BEGIN:DAYLIGHT
DTSTART:20260308T030000
TZOFFSETFROM:-0700
TZOFFSETTO:-0600
TZNAME:MDT
END:DAYLIGHT
END:VTIMEZONE
END:VCALENDAR