BEGIN:VCALENDAR
VERSION:2.0
PRODID:-//wp-events-plugin.com//7.2.3.1//EN
BEGIN:VEVENT
UID:18@roundupriverranch.org
DTSTART;TZID=America/Denver;VALUE=DATE:20260403
DTEND;TZID=America/Denver;VALUE=DATE:20260404
DTSTAMP:20260204T214700Z
URL:https://roundupriverranch.org/es/events/family-camp-3-6-applications-o
 pen/
SUMMARY:Family Camp 3-6 Applications Open!
DESCRIPTION:Camper applications open for Family Camp Sessions 3-6!
ATTACH;FMTTYPE=image/jpeg:https://roundupriverranch.org/wp-content/uploads
 /2026/02/2025_FC3_OpeningCampfire-079.jpg
CATEGORIES:Miscellaneous
LOCATION:https://roundupriverranch.org/camp-programs/onsite-programs/apply-
 for-camp/
END:VEVENT
BEGIN:VTIMEZONE
TZID:America/Denver
X-LIC-LOCATION:America/Denver
BEGIN:DAYLIGHT
DTSTART:20260308T030000
TZOFFSETFROM:-0700
TZOFFSETTO:-0600
TZNAME:MDT
END:DAYLIGHT
END:VTIMEZONE
END:VCALENDAR