BEGIN:VCALENDAR
VERSION:2.0
PRODID:-//wp-events-plugin.com//7.2.3.1//EN
BEGIN:VEVENT
UID:49@roundupriverranch.org
DTSTART;TZID=America/Denver:20260813T173000
DTEND;TZID=America/Denver:20260813T203000
DTSTAMP:20260325T165844Z
URL:https://roundupriverranch.org/es/events/the-bullseye-roundup/
SUMMARY:The Bullseye Roundup
DESCRIPTION:Date: 8/13/2026\n\nTime: 5:30 pm\n\nLocation: Lazy J Ranch 
 – Wolcott\, CO\n\n&nbsp\;\n\n2026 is a milestone year at Roundup River R
 anch! We’ll raise a toast to two decades of Roundup River Ranch at The B
 ullseye Roundup.\n\n\n\nJoin us on Thursday\, August 13th at 5:30 p.m. for
  our 4th annual The Bullseye Roundup at Lazy J Ranch in Wolcott\, CO! Gat
 her your friends and enjoy cocktails\, an archery competition\, savory foo
 d stations\, live music\, a small-but-mighty live auction\, and more! This
  will be an evening full of camp-inspired fun with a Western flair.\n\n&nb
 sp\;\n\nTickets are required for this event. Visit TheBullseyeRoundup.com 
 for the most up-to-date ticket and sponsorship details!\n\n\n\n&nbsp\;
ATTACH;FMTTYPE=image/jpeg:https://roundupriverranch.org/wp-content/uploads
 /2026/03/12-TheBullseyeRoundup2025-MH-516.jpg
CATEGORIES:Fundraising Events
LOCATION:Lazy J Ranch\, 1 Sporting Clay Road\, Wolcott\, CO\, 81655\, 
GEO:39.695887;-106.67712
X-APPLE-STRUCTURED-LOCATION;VALUE=URI;X-ADDRESS=1 Sporting Clay Road\, Wolc
 ott\, CO\, 81655\, ;X-APPLE-RADIUS=100;X-TITLE=Lazy J Ranch:geo:39.695887,
 -106.67712
END:VEVENT
BEGIN:VTIMEZONE
TZID:America/Denver
X-LIC-LOCATION:America/Denver
BEGIN:DAYLIGHT
DTSTART:20260308T030000
TZOFFSETFROM:-0700
TZOFFSETTO:-0600
TZNAME:MDT
END:DAYLIGHT
END:VTIMEZONE
END:VCALENDAR